BEGIN:VCALENDAR
X-LOTUS-CHARSET:UTF-8
VERSION:2.0
PRODID:-//unihamburg/mundry
METHOD:PUBLISH
BEGIN:VTIMEZONE
TZID:Europe/Berlin
X-LIC-LOCATION:Europe/Berlin
BEGIN:DAYLIGHT
TZOFFSETFROM:+0100
TZOFFSETTO:+0200
TZNAME:CEST
DTSTART:19700329T020000
RRULE:FREQ=YEARLY;INTERVAL=1;BYDAY=-1SU;BYMONTH=3
END:DAYLIGHT
BEGIN:STANDARD
TZOFFSETFROM:+0200
TZOFFSETTO:+0100
TZNAME:CET
DTSTART:19701025T030000
RRULE:FREQ=YEARLY;INTERVAL=1;BYDAY=-1SU;BYMONTH=10
END:STANDARD
END:VTIMEZONE
BEGIN:VEVENT
UID:128687
CLASS:PUBLIC
SUMMARY: Vielfalt leben, mit Unterschieden umgehen – mit dem Anti-Bias-Ansatz
DTSTART;TZID=Europe/Berlin:20260318T090000
DTEND;TZID=Europe/Berlin:20260319T150000
DTSTAMP:20260420T0005Z
DESCRIPTION:Zielgruppe: Alle Beschäftigten der UHH inkl. Promovierende und Postdocs / Sprache: Deutsch / Trainer:in: Silke Potthast und Luisa Neumann / Max. Teilnehmende: 15\nRaus aus den Schubladen! Vielfalt leben, mit Unterschieden umgehen – mit dem Anti-Bias-AnsatzDas englische Wort "Bias" bedeutet übersetzt "Vorurteil", "Voreingenommenheit" oder "Einseitigkeit". Keiner von uns ist frei davon. In diesem Workshop teilen wir persönliche Erlebnisse, entdecken Gemeinsamkeiten wie Unterschiede und reflektieren unsere Rolle in diskriminierenden Strukturen. \nAnrechenbar für "Fokus-Lernpfade".\nZur Anmeldung \n
LOCATION:, Mittelweg 177, 20148 Hamburg, 
END:VEVENT
END:VCALENDAR
